BEGIN:VCALENDAR
PRODID:NingEventWidget-v1
VERSION:2.0
METHOD:PUBLISH
BEGIN:VEVENT
UID:1791588:Event:115259
DTSTAMP:20260422T160652Z
SUMMARY:Stoller : A Comprehensive Tutorial in Musculoskeletal Imaging 
 Using the Stoller Checklist Technique
DESCRIPTION:Upon completion of program, participants should be able to
 :Develop a shoulder checklist method including interpretation techniqu
 es for the rotator cuff and interval, biceps labral complex, inferior 
 glenohumeralligament complex, and capsular structures including the an
 terior band. Identify glenoid wear patterns in multidirectional instab
 ility, microinstability, anterior and posterior instability.\nDevelop
  a knee checklist with foolproof ACL diagnosis and techniques for pros
 pective diagnosis of all types of meniscal tears, differentiating circ
 umferential surface from cross sectional tear patterns. Introduce stra
 tegies in the evaluation of the cruciate ligaments, posterolateral ins
 tability, and articular cartilage.Develop a femoroacetabular impingeme
 nt checklist and distinguish between FAI and DDH pathology. Discuss ap
 proaches for accurate acetabular-labral tear identification. Introduce
  orthopedic articular cartilage classification for the acetabular roof
 .Develop an ankle checklist including articulations, ligaments, tendon
 s and articular cartilage. Understand all types of soft tissue ankle i
 mpingement and posterior ligamentous and subtalar joint anatomy.Develo
 p a wrist checklist with emphasis on the intrinsic and extrinsic ligam
 ents and the triangular fibrocartilage. Understand the relevance of pe
 rilunate instability, SLAC and triscaphe arthritis.\nTarget Audience\n
 Board certified general radiologists and trainees interested in muscul
 oskeletal imagingOrthopedic SurgeonsRadiology fellows in trainingRadio
 logist Assistants and MRI TechnologistsPracticing physicians in sports
  medicine and related clinical subspecialties who desire to familiariz
 e themselves with the current role of imaging in patient evaluationAll
 ied health care professionals who desire to have an update on the stat
 e of current imaging as an aid to patient management for diseases of t
 he musculoskeletal system\n\nFor more information visit https://commun
 ity.radrounds.com/events/stoller-a-comprehensive-tutorial-in-musculosk
 eletal-imaging-using
DTSTART:20120607T040000Z
DTEND:20120610T035900Z
CATEGORIES:radiology
LOCATION:Stoller MSK June 2012
WEBSITE:http://www.stollermskcourse.com/
URL:http://www.stollermskcourse.com/
CONTACT:(702) 770-7000
ORGANIZER:CME Science
ATTACH;FMTTYPE="image/jpeg":
ATTENDEE;ROLE=REQ-PARTICIPANT;PARTSTAT=ACCEPTED;RSVP=TRUE;CN="radRound
 s Radiology Events":https://community.radrounds.com/profile/radRoundsR
 adiologyEvents
END:VEVENT
END:VCALENDAR
