BEGIN:VCALENDAR
PRODID:NingEventWidget-v1
VERSION:2.0
METHOD:PUBLISH
BEGIN:VEVENT
UID:1791588:Event:168130
DTSTAMP:20260421T091014Z
SUMMARY:Sterotactic Breast Biopsy
DESCRIPTION:Course Topics\n\nHistory of Stereotactic Biopsy\nRoles and
  Responsibilities: mammographer, radiologist, physicist, referring phy
 sician\nPrinciples of Stereotactic core biopsy\nEquipment: dedicated a
 nd add-on units\nBiopsy Devices\nStep-by-step Procedures for Prone and
  Upright\nQuality Control\nAccreditation\nMRI Stereotactic Biopsy\n\n\
 nFor more information visit https://community.radrounds.com/events/ste
 rotactic-breast-biopsy
DTSTART:20160813T120000Z
DTEND:20160813T201500Z
CATEGORIES:live, event
LOCATION:Houston
WEBSITE:https://store.aheconline.com/index.php?route=product/product&p
 ath=59&product_id=2152
URL:https://store.aheconline.com/index.php?route=product/product&path=
 59&product_id=2152
CONTACT:18002391361
ORGANIZER;CN="Larry Carney":https://community.radrounds.com/profile/La
 rryCarney
ATTACH;FMTTYPE="image/jpeg":
ATTENDEE;ROLE=REQ-PARTICIPANT;PARTSTAT=ACCEPTED;RSVP=TRUE;CN="Larry Ca
 rney":https://community.radrounds.com/profile/LarryCarney
END:VEVENT
END:VCALENDAR
