BEGIN:VCALENDAR
PRODID:NingEventWidget-v1
VERSION:2.0
METHOD:PUBLISH
BEGIN:VEVENT
UID:1791588:Event:172087
DTSTAMP:20260421T224026Z
SUMMARY:Stereotactic Breast Biopsy (Live Event)
DESCRIPTION:The stereotactic core biopsy is both fast, accurate and hi
 ghly technologist dependent. Providing quality stereotactic procedures
  requires skill and knowledge beyond what can be accomplished in a cla
 ssroom with a PowerPoint presentation. This training course provides t
 echnologist the knowledge, followed by hands on demonstrations of the 
 skills needed to become proficient in both the prone and upright stere
 otactic procedure. A seasoned mammography/stereotactic technologist wi
 ll guide you through the step by step procedure, and assist you with t
 roubleshooting and other important aspects of this unique lifesaving b
 iopsy method. Register early, the course enrollment is limited due to 
 the hands on component of the training.\n\nFor more information visit 
 https://community.radrounds.com/events/stereotactic-breast-biopsy-live
 -event
DTSTART:20170520T120000Z
DTEND:20170520T201500Z
CATEGORIES:live, event
LOCATION:Advanced Health Education Center
WEBSITE:https://store.aheconline.com/index.php?route=product/product&p
 ath=59&product_id=2959
URL:https://store.aheconline.com/index.php?route=product/product&path=
 59&product_id=2959
CONTACT:800-239-1361
ORGANIZER;CN="Larry Carney":https://community.radrounds.com/profile/La
 rryCarney
ATTACH;FMTTYPE="image/jpeg":
ATTENDEE;ROLE=REQ-PARTICIPANT;PARTSTAT=ACCEPTED;RSVP=TRUE;CN="Larry Ca
 rney":https://community.radrounds.com/profile/LarryCarney
END:VEVENT
END:VCALENDAR
