BEGIN:VCALENDAR
PRODID:NingEventWidget-v1
VERSION:2.0
METHOD:PUBLISH
BEGIN:VEVENT
UID:1791588:Event:158650
DTSTAMP:20260421T013028Z
SUMMARY:Stereotactic Breast Biopsy
DESCRIPTION:Register early and save! Please register early and reserve
  your place by providing payment to avoid an additional $25 fee requir
 ed for registrations given within two (2) weeks of the course.\nProvid
 ing quality mammographic exams requires skill and knowledge beyond pos
 itioning and technique! The stereotactic core biopsy is both fast, acc
 urate and highly technologist dependent. There is a 100% correlation b
 etween stereotactic biopsies and surgical biopsies in the diagnosis of
  two early stage conditions: Atypical Ductal Hyperplasia (ADH) and Duc
 tal Carcinoma in Situ (DCIS). This course examines the procedure and e
 xplains imaging theory, techniques, equipment, and why the procedure i
 s available at 1,200 hospitals, clinics, and breast centers in the Uni
 ted States. A seasoned mammography/stereotactic technologist will guid
 e you through the step by step procedure and assist you with troublesh
 ooting and other important aspects of this unique lifesaving biopsy me
 thod.\nCourse Topics\n\nHistory of Stereotactic Biopsy\nRoles and Resp
 onsibilities: mammographer, radiologist, physicist, referring physicia
 n\nPrinciples of Stereotactic core biopsy\nEquipment: dedicated and ad
 d-on units\nBiopsy Devices\nStep-by-step Procedure\nQuality Control\nA
 ccreditation\n4 Hours of Simulation Procedures\n\nInstructor: Deborah
  Thames, RT(R)(M)(QM)\n\n\nFor more information visit https://communit
 y.radrounds.com/events/stereotactic-breast-biopsy-9
DTSTART:20151121T050000Z
DTEND:20151122T045900Z
CATEGORIES:seminar
LOCATION:AHEC
WEBSITE:https://store.aheconline.com/index.php?route=product/product&f
 ilter_name=STEREOTACTIC%20BREAST%20BIOPSY&product_id=1561
URL:https://store.aheconline.com/index.php?route=product/product&filte
 r_name=STEREOTACTIC%20BREAST%20BIOPSY&product_id=1561
CONTACT:713-772-0157
ORGANIZER;CN="Larry Carney":https://community.radrounds.com/profile/La
 rryCarney
ATTACH;FMTTYPE="image/jpeg":
ATTENDEE;ROLE=REQ-PARTICIPANT;PARTSTAT=ACCEPTED;RSVP=TRUE;CN="Larry Ca
 rney":https://community.radrounds.com/profile/LarryCarney
END:VEVENT
END:VCALENDAR
