BEGIN:VCALENDAR
PRODID:NingEventWidget-v1
VERSION:2.0
METHOD:PUBLISH
BEGIN:VEVENT
UID:1791588:Event:152001
DTSTAMP:20260421T074413Z
SUMMARY:Stereotactic Breast Biopsy
DESCRIPTION:Providing quality mammographic exams requires skill and kn
 owledge beyond positioning and technique! The stereotactic core biopsy
  is both fast, accurate and highly technologist dependent. There is a 
 100% correlation between stereotactic biopsies and surgical biopsies i
 n the diagnosis of two early stage conditions: Atypical Ductal Hyperpl
 asia (ADH) and Ductal Carcinoma in Situ (DCIS). This course examines t
 he procedure and explains imaging theory, techniques, equipment, and w
 hy the procedure is available at 1,200 hospitals, clinics, and breast 
 centers in the United States. A seasoned mammography/stereotactic tech
 nologist will guide you through the step by step procedure and assist 
 you with troubleshooting and other important aspects of this unique li
 fesaving biopsy method.\n\nFor more information visit https://communit
 y.radrounds.com/events/stereotactic-breast-biopsy-7
DTSTART:20140607T120000Z
DTEND:20140607T201500Z
CATEGORIES:ce, mammography
LOCATION:Advanced Health Education Center
WEBSITE:https://store2.aheconline.com/index.php?route=product/product&
 path=59&product_id=928
URL:https://store2.aheconline.com/index.php?route=product/product&path
 =59&product_id=928
CONTACT:
ORGANIZER;CN="Larry Carney":https://community.radrounds.com/profile/La
 rryCarney
ATTACH;FMTTYPE="image/jpeg":
ATTENDEE;ROLE=REQ-PARTICIPANT;PARTSTAT=ACCEPTED;RSVP=TRUE;CN="Larry Ca
 rney":https://community.radrounds.com/profile/LarryCarney
END:VEVENT
END:VCALENDAR
