BEGIN:VCALENDAR
PRODID:NingEventWidget-v1
VERSION:2.0
METHOD:PUBLISH
BEGIN:VEVENT
UID:1791588:Event:163816
DTSTAMP:20260421T222233Z
SUMMARY:Stereotactic Breast Biopsy
DESCRIPTION:The stereotactic core biopsy is both fast, accurate and hi
 ghly technologist dependent. Providing quality stereotactic procedures
  requires skill and knowledge beyond what can be accomplished in a cla
 ssroom with a PowerPoint presentation. This training course provides t
 echnologist the knowledge, followed by hands on demonstrations of the 
 skills needed to become proficient in both the prone and upright stere
 otactic procedure. A seasoned mammography/stereotactic technologist wi
 ll guide you through the step by step procedure, and assist you with t
 roubleshooting and other important aspects of this unique lifesaving b
 iopsy method. Register early, the course enrollment is limited due to 
 the hands on component of the training.\n**The course will be conducte
 d at one of AHEC’s clinical affiliates. Please look for the course l
 ocation and parking instructions on your confirmation email you receiv
 e after completing your registration. *Note there is a $12.00 parking 
 fee.\nCourse Topics\n\nHistory of Stereotactic Biopsy\nRoles and Respo
 nsibilities: mammographer, radiologist, physicist, referring physician
 \nPrinciples of Stereotactic core biopsy\nEquipment: dedicated and add
 -on units\nBiopsy Devices\nStep-by-step Procedures for Prone and Uprig
 ht\nQuality Control\nAccreditation\nMRI Stereotactic Biopsy\n\n\nFor m
 ore information visit https://community.radrounds.com/events/stereotac
 tic-breast-biopsy-10
DTSTART:20160402T120000Z
DTEND:20160402T200000Z
CATEGORIES:mammography, seminar
LOCATION:Advanced Health Education Center
WEBSITE:https://store.aheconline.com/index.php?route=product/product&p
 ath=59_78&product_id=2151
URL:https://store.aheconline.com/index.php?route=product/product&path=
 59_78&product_id=2151
CONTACT:1-800-239-1361
ORGANIZER;CN="Larry Carney":https://community.radrounds.com/profile/La
 rryCarney
ATTACH;FMTTYPE="image/jpeg":
ATTENDEE;ROLE=REQ-PARTICIPANT;PARTSTAT=ACCEPTED;RSVP=TRUE;CN="Larry Ca
 rney":https://community.radrounds.com/profile/LarryCarney
END:VEVENT
END:VCALENDAR
