BEGIN:VCALENDAR
PRODID:NingEventWidget-v1
VERSION:2.0
METHOD:PUBLISH
BEGIN:VEVENT
UID:1791588:Event:116143
DTSTAMP:20260424T112910Z
SUMMARY:State of Nuclear Cardiology
DESCRIPTION:State of Nuclear Cardiology Saturday, March 24, 2012 - Sun
 day, March 25, 2012Advanced Health Education Center Houston, Texas (TX
 ), United StatesProvided by Advanced Health Education Center  CME Prov
 ider: Advanced Health Education Center 8502 Tybor DriveHouston, Texas 
 (TX) 77074United States\nToll Free: (800) 239-1361Phone: (713) 772-015
 7Fax: (713) 772-0155\n\nConference Center:Advanced Health Education Ce
 nter 8502 Tybor DriveHouston, Texas (TX) 77074United States\nPhone: (8
 00) 239-1361\n Description:The State of Nuclear Cardiology for Physici
 ans\nThis cutting-edge program will give you the new information relev
 ant to clinical, technical, and radiopharmaceutical apsects of Nuclear
  Cardiology. You will learn the clinical utilities of radiopharmaceuti
 cals and get an update on the latest and greatest NRC regulations.\n\n
 Your faculty for this two day event are well known and excellent prese
 nters from Chicago. This is a great opportunity to fulfill your profes
 sional certification requirements. Don't miss this convenient symposia
  for update, review, clinical applications and more. It will also prov
 ide you the opportunity to network with your peers.\nCourse Topics:Day
  One\nMyocardial Perfusion ImagingCardiac PET, Myocardial ViabilityMUG
 A StudiesRead with the Expert: Part 1 and Part 2Cardiac Case Review\nD
 ay Two Clinically Useful Radioisotopes for Cardiac StudiesPrinciples o
 f RadiopharmacyClinical Utility, Adverse Reactions & Interfering Medic
 ationsCardiac PharmaceuticalsCurrent NRC RegulationsHot Lab Quality Co
 ntrolRadiation Dosimetry\nTarget Audience All physicians and technolog
 ists practicing or seeking training in Nuclear Cardiology.\nCME Credit
 s \"The Advanced Health Education Center is accredited by the Accredit
 ation Council for Continuing Medical Education to provide continuing m
 edical education for physicians.” \"The Advanced Health Education Ce
 nter designates this educational activity for a maximum of 16 hours AM
 A PRA Category I™. Physician should claim credit commensurate with t
 he extent of their participation in the activity.”\n\nSelf Assessmen
 t Module (SAM): No\nInstructors:Stephen Karesh,Ph.D\nSpecialty Audienc
 e:Internal MedicineRadiology\n\nFor more information visit https://com
 munity.radrounds.com/events/state-of-nuclear-cardiology
DTSTART:20120224T050000Z
DTEND:20120226T045900Z
CATEGORIES:radiology
LOCATION:Advanced Health Education Center
WEBSITE:http://aheconline.com/
URL:http://aheconline.com/
CONTACT:(800) 239-1361
ORGANIZER:Advanced Health Education Center
ATTACH;FMTTYPE="image/jpeg":
ATTENDEE;ROLE=REQ-PARTICIPANT;PARTSTAT=ACCEPTED;RSVP=TRUE;CN="radRound
 s Radiology Events":https://community.radrounds.com/profile/radRoundsR
 adiologyEvents
END:VEVENT
END:VCALENDAR
