BEGIN:VCALENDAR
PRODID:NingEventWidget-v1
VERSION:2.0
METHOD:PUBLISH
BEGIN:VEVENT
UID:1791588:Event:116522
DTSTAMP:20260422T223007Z
SUMMARY:State of Nuclear Cardiology
DESCRIPTION:State of Nuclear Cardiology Saturday, May 19, 2012 - Sunda
 y, May 20, 2012Wyndham Hotel Love Field Dallas, Texas (TX), United Sta
 tesProvided by Advanced Health Education Center  CME Provider: Advance
 d Health Education Center 8502 Tybor DriveHouston, Texas (TX) 77074Uni
 ted States\nToll Free: (800) 239-1361Phone: (713) 772-0157Fax: (713) 7
 72-0155\n\nConference Center:Wyndham Hotel Love Field 3300 W. Mockingb
 ird LaneDallas, Texas (TX) 75235United States\nPhone: (214) 357-8500\n
  Description:This cutting-edge program will give you the new informati
 on relevant to clinical, technical, and radiopharmaceutical apsects of
  Nuclear Cardiology. You will learn the clinical utilities of radiopha
 rmaceuticals and get an update on the latest and greatest NRC regulati
 ons.\nYour faculty for this two day event are well known and excellent
  presenters from Chicago. This is a great opportunity to fulfill your 
 professional certification requirements. Don't miss this convenient sy
 mposia for update, review, clinical applications and more. It will als
 o provide you the opportunity to network with your peers.\nCourse Topi
 cs:Day One\nMyocardial Perfusion ImagingCardiac PET, Myocardial Viabil
 ityMUGA StudiesRead with the Expert: Part 1 and Part 2Cardiac Case Rev
 iew\nDay Two Clinically Useful Radioisotopes for Cardiac StudiesPrinci
 ples of RadiopharmacyClinical Utility, Adverse Reactions & Interfering
  MedicationsCardiac PharmaceuticalsCurrent NRC RegulationsHot Lab Qual
 ity ControlRadiation Dosimetry\nTarget Audience All physicians and tec
 hnologists practicing or seeking training in Nuclear Cardiology.\nCME 
 Credits \"The Advanced Health Education Center is accredited by the Ac
 creditation Council for Continuing Medical Education to provide contin
 uing medical education for physicians.” \"The Advanced Health Educat
 ion Center designates this educational activity for a maximum of 16 ho
 urs AMA PRA Category I™. Physician should claim credit commensurate 
 with the extent of their participation in the activity.”\nSelf Asses
 sment Module (SAM): No\nInstructors:Stephen Karesh, Ph.D.\nSpecialty A
 udience:Radiology\n\nFor more information visit https://community.radr
 ounds.com/events/state-of-nuclear-cardiology-1
DTSTART:20120519T040000Z
DTEND:20120521T035900Z
CATEGORIES:radiology
LOCATION:Wyndham Hotel Love Field
WEBSITE:http://www.wyndham.com/hotels/DALAP/main.wnt
URL:http://www.wyndham.com/hotels/DALAP/main.wnt
CONTACT:(214) 357-8500
ORGANIZER:Advanced Health Education Center
ATTACH;FMTTYPE="image/jpeg":
ATTENDEE;ROLE=REQ-PARTICIPANT;PARTSTAT=ACCEPTED;RSVP=TRUE;CN="radRound
 s Radiology Events":https://community.radrounds.com/profile/radRoundsR
 adiologyEvents
END:VEVENT
END:VCALENDAR
