BEGIN:VCALENDAR
PRODID:NingEventWidget-v1
VERSION:2.0
METHOD:PUBLISH
BEGIN:VEVENT
UID:1791588:Event:178017
DTSTAMP:20260421T163123Z
SUMMARY:Starting a Point of Care Ultrasound Program
DESCRIPTION:Starting a Point of Care Ultrasound Program is designed to
  help physicians who have been given an administrative leadership role
  to implement an emergency/critical care departments’ ultrasound pro
 gram. This unique, interactive course covers the key factors involved 
 with coordinating the program, leadership roles, and administrative ov
 ersight to effectively deliver this rapidly expanding technology in an
  organized and coordinated manner. In-depth discussion is also devoted
  to overcoming barriers of starting an ultrasound program and also nav
 igate administrative and other departmental support.\n\nFor more infor
 mation visit https://community.radrounds.com/events/starting-a-point-o
 f-care-ultrasound-program-1
DTSTART:20180608T113000Z
DTEND:20180608T210000Z
CATEGORIES:live, seminar
LOCATION:Gulfcoast Ultrasound Institute
WEBSITE:https://www.gcus.com/
URL:https://www.gcus.com/
CONTACT:7273634500
ORGANIZER:Gulfcoast Ultrasound Institute, Inc
ATTACH;FMTTYPE="image/jpeg":http://storage.ning.com/topology/rest/1.0/
 file/get/1044771954?profile=original
ATTENDEE;ROLE=REQ-PARTICIPANT;PARTSTAT=ACCEPTED;RSVP=TRUE;CN="Casey Gr
 een":https://community.radrounds.com/profile/JamesSalame
END:VEVENT
END:VCALENDAR
