BEGIN:VCALENDAR
PRODID:NingEventWidget-v1
VERSION:2.0
METHOD:PUBLISH
BEGIN:VEVENT
UID:1791588:Event:189405
DTSTAMP:20260423T182121Z
SUMMARY:Spring Forward Miniconference 2019 (Live Event)
DESCRIPTION:Dont miss this opportunity to hear from Dr. Louis Wagner r
 egarding “What Do I Need to Know for Joint Commission and Fluoroscop
 ic Safety”.  This is a great opportunity for you to get answers on 
 what to do about The Joint Commission's new rule.\nDavid Clayton is go
 ing to speak about Digital Imaging Quality Control.  You will be give
 n examples of good QC Practice and what it takes to manage a digital d
 epartment today.\nOur newest faculty member, Maribel William, will spe
 ak about Artificial Intelligence in the Imaging Department.  She’wi
 ll show us how AI helps by looking backwards in a patient’s medical 
 history to find things that might otherwise be overlooked as insignifi
 cant.\n Topics:  \n\nWhat does Joint Commission mean by everyone ne
 eds fluoro training?\nDigital QC for Radiography\nArtificial Intellige
 nce in the Imaging Department\n\n\nFor more information visit https://
 community.radrounds.com/events/spring-forward-miniconference-2019-live
 -event
DTSTART:20190406T130000Z
DTEND:20190406T183000Z
CATEGORIES:live, event
LOCATION:Advanced Health Education Center
WEBSITE:https://store.aheconline.com/
URL:https://store.aheconline.com/
CONTACT:1(800) 239-1361
ORGANIZER:AHEC
ATTACH;FMTTYPE="image/jpeg":
ATTENDEE;ROLE=REQ-PARTICIPANT;PARTSTAT=ACCEPTED;RSVP=TRUE;CN="Larry Ca
 rney":https://community.radrounds.com/profile/LarryCarney
END:VEVENT
END:VCALENDAR
