BEGIN:VCALENDAR
PRODID:NingEventWidget-v1
VERSION:2.0
METHOD:PUBLISH
BEGIN:VEVENT
UID:1791588:Event:115856
DTSTAMP:20260424T043134Z
SUMMARY:Spring Fling Diagnostic CE Miniconference Day 2
DESCRIPTION:Spring Fling Diagnostic CE Miniconference Day 2 Saturday, 
 March 03, 2012 - Saturday, March 03, 2012Advanced Health Education Cen
 ter Houston, Texas (TX), United StatesProvided by Advanced Health Educ
 ation Center  CME Provider: Advanced Health Education Center 8502 Tybo
 r DriveHouston, Texas (TX) 77074United States\nToll Free: (800) 239-13
 61Phone: (713) 772-0157Fax: (713) 772-0155\n\nConference Center:Advanc
 ed Health Education Center 8502 Tybor DriveHouston, Texas (TX) 77074Un
 ited States\nPhone: (800) 239-1361\nDescription:Here is day 2 of our t
 wo day 16 hour spring diaigngostic CE course in 2011. We are currently
  planning out the agenda and inviting speakers to make up a variety of
  topics just for you! Save the date and check back with us for topics 
 and speaker information. See you at AHEC for our annual spring diagnos
 tic fling!\nSelf Assessment Module (SAM): No\nInstructors:AHEC Staff-T
 BD\nSpecialty Audience:Radiology\n\nFor more information visit https:/
 /community.radrounds.com/events/spring-fling-diagnostic-ce-miniconfere
 nce-day-2
DTSTART:20120303T050000Z
DTEND:20120304T045900Z
CATEGORIES:radiology
LOCATION:Advanced Health Education Center
WEBSITE:http://aheconline.com/
URL:http://aheconline.com/
CONTACT:(800) 239-1361
ORGANIZER:Advanced Health Education Center
ATTACH;FMTTYPE="image/jpeg":
ATTENDEE;ROLE=REQ-PARTICIPANT;PARTSTAT=ACCEPTED;RSVP=TRUE;CN="radRound
 s Radiology Events":https://community.radrounds.com/profile/radRoundsR
 adiologyEvents
END:VEVENT
END:VCALENDAR
