BEGIN:VCALENDAR
PRODID:NingEventWidget-v1
VERSION:2.0
METHOD:PUBLISH
BEGIN:VEVENT
UID:1791588:Event:115974
DTSTAMP:20260424T060107Z
SUMMARY:Spring Fling Diagnostic CE Miniconference Day 1
DESCRIPTION:Spring Fling Diagnostic CE Miniconference Day 1 Friday, Ma
 rch 02, 2012 - Friday, March 02, 2012Advanced Health Education Center 
 Houston, Texas (TX), United StatesProvided by Advanced Health Educatio
 n Center  CME Provider: Advanced Health Education Center 8502 Tybor Dr
 iveHouston, Texas (TX) 77074United States\nToll Free: (800) 239-1361Ph
 one: (713) 772-0157Fax: (713) 772-0155\n\nConference Center:Advanced H
 ealth Education Center 8502 Tybor DriveHouston, Texas (TX) 77074United
  States\nPhone: (800) 239-1361\nDescription:\nHere is day 1 of our two
  day 16 hour spring diaigngostic CE course in 2011. We are currently p
 lanning out the agenda and inviting speakers to make up a variety of t
 opics just for you! Save the date and check back with us for topics an
 d speaker information. See you at AHEC for our annual spring diagnosti
 c fling!\nSelf Assessment Module (SAM): No\nInstructors:Please visit t
 he Advanced Health Education Center website for more information.\nSpe
 cialty Audience:Radiology\n\nFor more information visit https://commun
 ity.radrounds.com/events/spring-fling-diagnostic-ce-miniconference-day
 -1
DTSTART:20120302T050000Z
DTEND:20120303T045900Z
CATEGORIES:radiology
LOCATION:Advanced Health Education Center
WEBSITE:http://aheconline.com/
URL:http://aheconline.com/
CONTACT:(800) 239-1361
ORGANIZER:Advanced Health Education Center
ATTACH;FMTTYPE="image/jpeg":
ATTENDEE;ROLE=REQ-PARTICIPANT;PARTSTAT=ACCEPTED;RSVP=TRUE;CN="radRound
 s Radiology Events":https://community.radrounds.com/profile/radRoundsR
 adiologyEvents
END:VEVENT
END:VCALENDAR
