BEGIN:VCALENDAR
PRODID:NingEventWidget-v1
VERSION:2.0
METHOD:PUBLISH
BEGIN:VEVENT
UID:1791588:Event:162238
DTSTAMP:20260422T080538Z
SUMMARY:SPR Pediatric MSK Imaging: Beyond the Basics Reloaded
DESCRIPTION:The Society for Pediatric Radiology invites you to join us
  at the SPR Pediatric MSK Imaging: Beyond the Basics Reloaded in Austi
 n, Texas.\n\nFor more information visit https://community.radrounds.co
 m/events/spr-pediatric-msk-imaging-beyond-the-basics-reloaded
DTSTART:20160115T050000Z
DTEND:20160118T045900Z
CATEGORIES:meeting
LOCATION:JW Marriott Hotel
WEBSITE:
URL:
CONTACT:
ORGANIZER;CN="Angela Davis":https://community.radrounds.com/profile/Ka
 renSchmitt
ATTACH;FMTTYPE="image/jpeg":
ATTENDEE;ROLE=REQ-PARTICIPANT;PARTSTAT=ACCEPTED;RSVP=TRUE;CN="Angela D
 avis":https://community.radrounds.com/profile/KarenSchmitt
END:VEVENT
END:VCALENDAR
