BEGIN:VCALENDAR
PRODID:NingEventWidget-v1
VERSION:2.0
METHOD:PUBLISH
BEGIN:VEVENT
UID:1791588:Event:175409
DTSTAMP:20260424T075213Z
SUMMARY:SPR 2nd Pediatric Body MRI Course
DESCRIPTION:Course participants will discuss basic body MRI technique 
 methods to improve the routine use of pediatric body MRI in terms of q
 uality. There will also be discussions regarding the present and futur
 e roles of body MRI in pediatric oncology. Course participants will be
  able to understand basic and advanced techniques in body MRI techniqu
 es, and recognize and apply the techniques for advanced diagnosis and 
 improved management. CME and SAM credits are available.\n\nFor more in
 formation visit https://community.radrounds.com/events/spr-2nd-pediatr
 ic-body-mri-course
DTSTART:20170915T120000Z
DTEND:20170917T161500Z
CATEGORIES:live, meeting
LOCATION:Cincinnati Children's Hospital Medical Center
WEBSITE:http://www.pedrad.org/Events/SPRMeetings
URL:http://www.pedrad.org/Events/SPRMeetings
CONTACT:703-648-0680
ORGANIZER:Society for Pediatric Radiology
ATTACH;FMTTYPE="image/jpeg":
ATTENDEE;ROLE=REQ-PARTICIPANT;PARTSTAT=ACCEPTED;RSVP=TRUE;CN="Jenny Ra
 ju":https://community.radrounds.com/profile/JennyRaju
END:VEVENT
END:VCALENDAR
