BEGIN:VCALENDAR
PRODID:NingEventWidget-v1
VERSION:2.0
METHOD:PUBLISH
BEGIN:VEVENT
UID:1791588:Event:194033
DTSTAMP:20260424T062734Z
SUMMARY:SPR 2020 Child Abuse Imaging Course
DESCRIPTION:Calling all professionals to join us in Dallas, Texas for 
 the SPR 2020 Child Abuse Imaging Course. This course was developed in 
 conjunction with the American Academy of Pediatrics.\nDon't miss out o
 n:\n\n2 ½ days of didactic lectures\n\nInteresting case discussions\n
 \nSome topics include: Advances in Imaging; Courtroom Testimony and Pr
 eparation; Brain and Spine Imaging; Postmortem Imaging; Retinal Hemorr
 hage; Intracranial Injury and much more!\n\n\n\nFor more information v
 isit https://community.radrounds.com/events/spr-2020-child-abuse-imagi
 ng-course
DTSTART:20200221T050000Z
DTEND:20200224T045900Z
CATEGORIES:course
LOCATION:Hilton Anatole Hotel
WEBSITE:http://www.pedrad.org
URL:http://www.pedrad.org
CONTACT:
ORGANIZER;CN="Angela Davis":https://community.radrounds.com/profile/Ka
 renSchmitt
ATTACH;FMTTYPE="image/jpeg":
ATTENDEE;ROLE=REQ-PARTICIPANT;PARTSTAT=ACCEPTED;RSVP=TRUE;CN="Angela D
 avis":https://community.radrounds.com/profile/KarenSchmitt
END:VEVENT
END:VCALENDAR
