BEGIN:VCALENDAR
PRODID:NingEventWidget-v1
VERSION:2.0
METHOD:PUBLISH
BEGIN:VEVENT
UID:1791588:Event:191428
DTSTAMP:20260423T201214Z
SUMMARY:SPR 2019 Fetal Imaging Course
DESCRIPTION:Program Highlights:\n\n3 ½ Days of Didactic Lectures\nSom
 e topics include: Advanced Fetal Imaging; MR Imaging of the Pregnant P
 atient,  Neuro-imaging; Fetal Cardiac and Chest Imaging; Fetal GI and 
 GU Imaging; Choreographing Multi-Disciplinary Deliveries and much more
 !\nInvited case discussions\nSpecial half-day sessions on Postmortem I
 maging and US and MRI of the Placenta\nEarn CME and SAM Credits!\n\n 
 \nTo view the program, click here.\nRegistration and hotel informatio
 n for the course can be obtained via the SPR website: \nhttps://www.p
 edrad.org/Events/SPR-Meetings/SPR-2019-Fetal-Imaging-Course\n\nFor mor
 e information visit https://community.radrounds.com/events/spr-2019-fe
 tal-imaging-course
DTSTART:20190912T110000Z
DTEND:20190915T163000Z
CATEGORIES:fetal, imaging, course
LOCATION:Children's Hospital of Philadelphia
WEBSITE:https://www.pedrad.org/Events/SPR-Meetings/SPR-2019-Fetal-Imag
 ing-Course
URL:https://www.pedrad.org/Events/SPR-Meetings/SPR-2019-Fetal-Imaging-
 Course
CONTACT:703-648-8938
ORGANIZER:Jenny Raju
ATTACH;FMTTYPE="image/jpeg":https://storage.ning.com/topology/rest/1.0
 /file/get/2735392431?profile=original
ATTENDEE;ROLE=REQ-PARTICIPANT;PARTSTAT=ACCEPTED;RSVP=TRUE;CN="Angela D
 avis":https://community.radrounds.com/profile/KarenSchmitt
END:VEVENT
END:VCALENDAR
