BEGIN:VCALENDAR
PRODID:NingEventWidget-v1
VERSION:2.0
METHOD:PUBLISH
BEGIN:VEVENT
UID:1791588:Event:168606
DTSTAMP:20260420T164251Z
SUMMARY:SPR 2017 Advances in Fetal and Neonatal Imaging Course
DESCRIPTION:The Advances in Fetal and Neonatal Imaging Course will inc
 lude sessions on Fetal CNS, Fetal Chest, Fetal GI & GU Anomalies, Feta
 l & Maternal Issues and advanced Imaging. Earn CME and SAM credits. Fo
 r more information, visit www.pedrad.org. \n\nFor more information vi
 sit https://community.radrounds.com/events/spr-2017-advances-in-fetal-
 and-neonatal-imaging-course
DTSTART:20170127T120000Z
DTEND:20170129T170000Z
CATEGORIES:course
LOCATION:Wyndham Grand Orlando Resort Bonnet Creek
WEBSITE:http://www.pedrad.org/Events/SPRMeetings
URL:http://www.pedrad.org/Events/SPRMeetings
CONTACT:703-476-3235
ORGANIZER;CN="Angela Davis":https://community.radrounds.com/profile/Ka
 renSchmitt
ATTACH;FMTTYPE="image/jpeg":http://storage.ning.com/topology/rest/1.0/
 file/get/1044769617?profile=original
ATTENDEE;ROLE=REQ-PARTICIPANT;PARTSTAT=ACCEPTED;RSVP=TRUE;CN="Angela D
 avis":https://community.radrounds.com/profile/KarenSchmitt
END:VEVENT
END:VCALENDAR
