BEGIN:VCALENDAR
PRODID:NingEventWidget-v1
VERSION:2.0
METHOD:PUBLISH
BEGIN:VEVENT
UID:1791588:Event:116566
DTSTAMP:20260421T062913Z
SUMMARY:SPR 2014
DESCRIPTION:SPR 2014 Tuesday, May 13, 2014 - Saturday, May 17, 2014J.W
 . Marriott Washington DC Washington, District of Columbia (DC), United
  StatesProvided by Society for Pediatric Radiology  CME Provider: Soci
 ety for Pediatric Radiology Karen Schmitt1891 Preston White DriveResto
 n, Virginia (VA) 20191United States\nPhone: (703) 648-0680Fax: (703) 8
 80-0005\n\nConference Center:J.W. Marriott Washington DC 1331 Pennsylv
 ania Avenue NWWashington, District of Columbia (DC) 20004United States
 \nToll Free: (800) 393-2503Phone: (202) 393-2000Fax: (202) 626-6991\n 
 Description:Please visit the Society for Pediatric Radiology website f
 or more information.\nSelf Assessment Module (SAM): No\nInstructors:Pl
 ease visit the Society for Pediatric Radiology website for more inform
 ation.\nSpecialty Audience:Radiology\n\nFor more information visit htt
 ps://community.radrounds.com/events/spr-2014
DTSTART:20140513T040000Z
DTEND:20140518T035900Z
CATEGORIES:radiology
LOCATION:J.W. Marriott Washington DC
WEBSITE:http://www.marriott.com/hotels/travel/wasjw-jw-marriott-washin
 gton-dc/
URL:http://www.marriott.com/hotels/travel/wasjw-jw-marriott-washington
 -dc/
CONTACT:(202) 393-2000
ORGANIZER:Society for Pediatric Radiology
ATTACH;FMTTYPE="image/jpeg":
ATTENDEE;ROLE=REQ-PARTICIPANT;PARTSTAT=ACCEPTED;RSVP=TRUE;CN="radRound
 s Radiology Events":https://community.radrounds.com/profile/radRoundsR
 adiologyEvents
END:VEVENT
END:VCALENDAR
