BEGIN:VCALENDAR
PRODID:NingEventWidget-v1
VERSION:2.0
METHOD:PUBLISH
BEGIN:VEVENT
UID:1791588:Event:116528
DTSTAMP:20260422T205310Z
SUMMARY:Sports Medicine Imaging State of the Art 2012
DESCRIPTION:Sports Medicine Imaging State of the Art 2012 Monday, May 
 21, 2012 - Thursday, May 24, 2012NYU Langone Medical Center New York, 
 New York (NY), United StatesProvided by NYU Langone Medical Center  CM
 E Provider: NYU Langone Medical Center Department of Radiology462 Firs
 t AvenueOBH C&D, 1st Floor, Room 4New York, New York (NY) 10016United 
 States\nPhone: (212) 263-3936Fax: (212) 263-3959\n\nConference Center:
 NYU Langone Medical Center Department of Radiology560 First AvenueNew 
 York, New York (NY) 10016United States\nPhone: (212) 263-3936Fax: (212
 ) 263-3959\nDescription:Join NYU Radiology for our unique and innovati
 ve program in sports related injuries which will be organized by body 
 part and include a review of relevant anatomy in each area. A discussi
 on of relevant sports related pathology will then ensue including the 
 orthopedists perspective on how imaging is best incorporated in their 
 everyday practice and decision making.\nSelf Assessment Module (SAM): 
 No\nInstructors:Please visit the NYU Langone Medical Center website fo
 r more information.\nSpecialty Audience:Radiology\n\nFor more informat
 ion visit https://community.radrounds.com/events/sports-medicine-imagi
 ng-state-of-the-art-2012
DTSTART:20120521T040000Z
DTEND:20120525T035900Z
CATEGORIES:radiology
LOCATION:NYU Langone Medical Center - Department of Radiology
WEBSITE:http://www.med.nyu.edu/
URL:http://www.med.nyu.edu/
CONTACT:(212) 263-3936
ORGANIZER:NYU Langone Medical Center
ATTACH;FMTTYPE="image/jpeg":
ATTENDEE;ROLE=REQ-PARTICIPANT;PARTSTAT=ACCEPTED;RSVP=TRUE;CN="radRound
 s Radiology Events":https://community.radrounds.com/profile/radRoundsR
 adiologyEvents
END:VEVENT
END:VCALENDAR
