BEGIN:VCALENDAR
PRODID:NingEventWidget-v1
VERSION:2.0
METHOD:PUBLISH
BEGIN:VEVENT
UID:1791588:Event:194791
DTSTAMP:20260424T060422Z
SUMMARY:Specialty Mammography Workshop: Breast Ultrasound (Live Event)
DESCRIPTION:Elevate your mammography career with a new skill! This co
 urse is designed to give the practicing mammographer the advanced trai
 ning tools needed to begin performing breast ultrasound This course is
  taught by expert breast ultrasound faculty. You’ll earn a CE certi
 ficate with for six hours of Breast Ultrasound to give you an edge abo
 ve your peers!  This breast ultrasound course includes didactic and h
 ands-on training.\nIf you have questions about the course, please cont
 act Lesa Mohr at AHEC at 713-772-0157.\nCourse Topics:\nDay One - Brea
 st Ultrasound (6 hours)\n\nBreast Anatomy and Normal Imaging\nBenign v
 s. Malignant\nCorrelation of Mammography with Ultrasound Images\nWho, 
 What, When, Where and Why?\nHands-on Scanning\n\n\nFor more informatio
 n visit https://community.radrounds.com/events/specialty-mammography-w
 orkshop-breast-ultrasound-live-event
DTSTART:20200125T130000Z
DTEND:20200125T193000Z
CATEGORIES:live, event
LOCATION:Advanced Health Education Center
WEBSITE:http://store.aheconline.com
URL:http://store.aheconline.com
CONTACT:1 (800) 239-1361
ORGANIZER:AHEC
ATTACH;FMTTYPE="image/jpeg":
ATTENDEE;ROLE=REQ-PARTICIPANT;PARTSTAT=ACCEPTED;RSVP=TRUE;CN="Larry Ca
 rney":https://community.radrounds.com/profile/LarryCarney
END:VEVENT
END:VCALENDAR
