BEGIN:VCALENDAR
PRODID:NingEventWidget-v1
VERSION:2.0
METHOD:PUBLISH
BEGIN:VEVENT
UID:1791588:Event:170227
DTSTAMP:20260423T152630Z
SUMMARY:Sonography Principles & Instrumentation Registry Review
DESCRIPTION:Successfully prepare for the Ultrasound Physics registry e
 xam with the leaders in ultrasound continuing medical education. The U
 ltrasound Physics Registry Review course provides a comprehensive revi
 ew for successful certification exam completion. The Sonography Princi
 ples and Instrumentation registry review is taught by leading experts 
 in the ultrasound profession and includes interactive lectures, case s
 tudies, and mock registry exams using an interactive Audience Response
  System.\nObjectives\n\nIncrease the participants’ knowledge to bett
 er perform diagnostic ultrasound examinations.\nState the elementary p
 rinciples of ultrasound including definition of ultrasound, basic prop
 erties and units of measure.\nDescribe the fundamental principles of s
 ound and the propagation of sound in soft-tissue.\nCite the different 
 types of transducers, focusing, sound beam formation and the various t
 ypes of resolution including: axial, lateral, contrast and temporal\nR
 ecognize components and terminology of ultrasound equipment and instru
 mentation.\nList the advantages of Doppler, Color Flow and Color Power
  Imaging.\nDifferentiate imaging artifacts by their cause and characte
 ristic appearance\nApply statistical test correlation and test validat
 ion using CHI Square principles regarding sensitivity, specificity and
  overall test accuracy.\nOutline safety, quality control, quality assu
 rance and bioeffects concerns regarding operation and maintenance of u
 ltrasound equipment.\nIdentify areas of weakness that require addition
 al self-study to successful pass the ultrasound board examination offe
 red by ARDMS, CCI or ARRT.\n\n \n\nTopics\n\nEssentials of Diagnostic
  Ultrasound\nUltrasound Physical Principles\nPulse Echo Instrumentatio
 n, Storage and Display\nPropagation of Ultrasound Through Tissue\nTran
 sducers\nImage Controls\nDoppler Instrumentation and Hemodynamics\nIma
 ging Artifacts\nQuality Assurance and Safety\n\n\nFor more information
  visit https://community.radrounds.com/events/sonography-principles-in
 strumentation-registry-review
DTSTART:20170927T040000Z
DTEND:20170928T035900Z
CATEGORIES:cme, conference
LOCATION:Gulfcoast Ultrasound Institute
WEBSITE:https://www.gcus.com/courses/about.asp?course=1135/Sonography-
 Principles-and-Instrumentation-Registry-Review
URL:https://www.gcus.com/courses/about.asp?course=1135/Sonography-Prin
 ciples-and-Instrumentation-Registry-Review
CONTACT:17273634500
ORGANIZER:GCUS
ATTACH;FMTTYPE="image/jpeg":http://storage.ning.com/topology/rest/1.0/
 file/get/1044771915?profile=original
ATTENDEE;ROLE=REQ-PARTICIPANT;PARTSTAT=ACCEPTED;RSVP=TRUE;CN="Casey Gr
 een":https://community.radrounds.com/profile/JamesSalame
END:VEVENT
END:VCALENDAR
