BEGIN:VCALENDAR
PRODID:NingEventWidget-v1
VERSION:2.0
METHOD:PUBLISH
BEGIN:VEVENT
UID:1791588:Event:185097
DTSTAMP:20260425T105457Z
SUMMARY:Sonography Principles &amp; Instrumentation Registry Review
DESCRIPTION:Sonography Principles & Instrumentation Registry Review Li
 ve Training Course provides a comprehensive review with topics based o
 n ARDMS exam content outlines for successfully completing the Sonograp
 hy Principles & Instrumentation certification exam. To guarantee the h
 ighest industry exam success rate this course is taught by leading Son
 ography Principles & Instrumentation experts in the Sonography Princip
 les & Instrumentation ultrasound profession and is specifically design
 ed for physicians, sonographers and other medical professionals who ne
 ed Sonography Principles & Instrumentation registry preparation. This 
 course entails interactive lectures, case studies, and live, interacti
 ve mock registry exams using an interactive Audience Response System a
 t our facility in St. Petersburg, FL. All participants will receive a 
 BONUS 5 DAY ACCESS to the online registry review course (Only offered 
 by Gulfcoast Ultrasound Institute).\n\nFor more information visit http
 s://community.radrounds.com/events/sonography-principles-amp-instrumen
 tation-registry-review
DTSTART:20190327T111500Z
DTEND:20190327T210000Z
CATEGORIES:live, cme, seminar
LOCATION:Gulfcoast Ultrasound Institute
WEBSITE:https://www.gcus.com/
URL:https://www.gcus.com/
CONTACT:727-363-4500
ORGANIZER:Gulfcoast Ultrasound Institute, Inc
ATTACH;FMTTYPE="image/jpeg":https://storage.ning.com/topology/rest/1.0
 /file/get/308232798?profile=original
ATTENDEE;ROLE=REQ-PARTICIPANT;PARTSTAT=ACCEPTED;RSVP=TRUE;CN="Casey Gr
 een":https://community.radrounds.com/profile/JamesSalame
END:VEVENT
END:VCALENDAR
