BEGIN:VCALENDAR
PRODID:NingEventWidget-v1
VERSION:2.0
METHOD:PUBLISH
BEGIN:VEVENT
UID:1791588:Event:116296
DTSTAMP:20260422T162220Z
SUMMARY:Society for Imaging Informatics in Medicine (SIIM) 2012
DESCRIPTION:Society for Imaging Informatics in Medicine (SIIM) 2012 Th
 ursday, June 07, 2012 - Sunday, June 10, 2012Orlando World Center Marr
 iott Resort & Convention Center Orlando, Florida (FL), United StatesPr
 ovided by Society for Imaging Informatics in Medicine (SIIM)  CME Prov
 ider: Society for Imaging Informatics in Medicine (SIIM) Bernadette Wl
 adyka19440 Golf Vista PlazaSuite 330Leesburg, Virginia (VA) 20176-8264
 United States\nPhone: (703) 723-0432Fax: (703) 723-0415\n\nConference 
 Center:Orlando World Center Marriott Resort & Convention Center 8701 W
 orld Center DriveOrlando, Florida (FL) 32821United States\nToll Free: 
 (800) 380-7931Phone: (407) 239-4200Fax: (407) 238-8777\nDescription:Pl
 ease visit the Society for Imaging Informatics in Medicine (SIIM) webs
 ite for more information.\nSelf Assessment Module (SAM): No\nInstructo
 rs:Please visit the Society for Imaging Informatics in Medicine (SIIM)
  website for more information.\nSpecialty Audience:Radiology\n\nFor mo
 re information visit https://community.radrounds.com/events/society-fo
 r-imaging-informatics-in-medicine-siim-2012
DTSTART:20120607T040000Z
DTEND:20120611T035900Z
CATEGORIES:radiology
LOCATION:Orlando World Center Marriott Resort & Convention Center
WEBSITE:http://www.marriottworldcenter.com/
URL:http://www.marriottworldcenter.com/
CONTACT:(407) 239-4200
ORGANIZER:Society for Imaging Informatics in Medicine (SIIM)
ATTACH;FMTTYPE="image/jpeg":
ATTENDEE;ROLE=REQ-PARTICIPANT;PARTSTAT=ACCEPTED;RSVP=TRUE;CN="radRound
 s Radiology Events":https://community.radrounds.com/profile/radRoundsR
 adiologyEvents
END:VEVENT
END:VCALENDAR
