BEGIN:VCALENDAR
PRODID:NingEventWidget-v1
VERSION:2.0
METHOD:PUBLISH
BEGIN:VEVENT
UID:1791588:Event:172820
DTSTAMP:20260420T002828Z
SUMMARY:Social Media: What Were They Thinking? (Live Webinar)
DESCRIPTION:Course Topics\n\nTypes of Social Media\nElectronic Use Pol
 icies\nEmployer Rights vs. Employee Rights\nWho's Your Friend?\nHIPAA 
 Case Studies\nLateral Violence\n\n\nFor more information visit https:/
 /community.radrounds.com/events/social-media-what-were-they-thinking-l
 ive-webinar-1
DTSTART:20171130T230000Z
DTEND:20171201T000000Z
CATEGORIES:live, webinar
LOCATION:Advanced Health Education Center
WEBSITE:https://store.aheconline.com/index.php?route=product/product&p
 ath=59&product_id=3058
URL:https://store.aheconline.com/index.php?route=product/product&path=
 59&product_id=3058
CONTACT:800-239-1361
ORGANIZER;CN="Larry Carney":https://community.radrounds.com/profile/La
 rryCarney
ATTACH;FMTTYPE="image/jpeg":
ATTENDEE;ROLE=REQ-PARTICIPANT;PARTSTAT=ACCEPTED;RSVP=TRUE;CN="Larry Ca
 rney":https://community.radrounds.com/profile/LarryCarney
ATTENDEE;ROLE=REQ-PARTICIPANT;PARTSTAT=TENTATIVE;RSVP=TRUE;CN="Kathy J
 acobsen Meng":https://community.radrounds.com/profile/KathyJacobsenMen
 g
END:VEVENT
END:VCALENDAR
