BEGIN:VCALENDAR
PRODID:NingEventWidget-v1
VERSION:2.0
METHOD:PUBLISH
BEGIN:VEVENT
UID:1791588:Event:184973
DTSTAMP:20260423T105429Z
SUMMARY:Smarter Mammography Practices (Live Event)
DESCRIPTION:This new eight hour mammography course is presented by an 
 expert mammographer trainer, Pamela Fulmer.  You will enjoy learning 
 from Pam's experience helping facilities improve their positioning ski
 lls for accreditation.  Through case studies, you'll learn what to do
  and not to do.  Pam will then discuss breast density, implants and i
 maging the transgender patient.  You'll benefit from her extensive kn
 owledge of pathology reports.  She will close the day with an enlight
 ening review of her mammography training in Saudia Arabia.\nCourse Top
 ics:\n\nAccreditation, Images and Corrections - Fix it Positioning\nBr
 east Density - What Is It All About?\nAll About Implants\nMammography 
 in the Transgender World\nPathology Report - What Does it Mean?\nMammo
 graphy In Saudi Arabia\n\n\nFor more information visit https://communi
 ty.radrounds.com/events/smarter-mammography-practices-live-event-2
DTSTART:20190928T120000Z
DTEND:20190928T201500Z
CATEGORIES:live, event
LOCATION:TBD - Tulsa, Oklahoma
WEBSITE:http://store.aheconline.com
URL:http://store.aheconline.com
CONTACT:800-239-1361
ORGANIZER;CN="Larry Carney":https://community.radrounds.com/profile/La
 rryCarney
ATTACH;FMTTYPE="image/jpeg":
ATTENDEE;ROLE=REQ-PARTICIPANT;PARTSTAT=ACCEPTED;RSVP=TRUE;CN="Larry Ca
 rney":https://community.radrounds.com/profile/LarryCarney
END:VEVENT
END:VCALENDAR
