BEGIN:VCALENDAR
PRODID:NingEventWidget-v1
VERSION:2.0
METHOD:PUBLISH
BEGIN:VEVENT
UID:1791588:Event:185253
DTSTAMP:20260421T142816Z
SUMMARY:Smarter Mammography Practices (Live Event)
DESCRIPTION:This new eight hour mammography course is presented by an 
 expert mammographer trainer, Pamela Fulmer. You will enjoy learning fr
 om Pam's experience helping facilities improve their positioning skill
 s for accreditation. Through case studies, you'll learn what to do and
  not to do. Pam will then discuss breast density, implants and imaging
  the transgender patient. You'll benefit from her extensive knowledge 
 of pathology reports. She will close the day with an enlightening revi
 ew of her mammography training in Saudia Arabia.\n\nFor more informati
 on visit https://community.radrounds.com/events/smarter-mammography-pr
 actices-live-event-1
DTSTART:20190622T120000Z
DTEND:20190622T201500Z
CATEGORIES:live, event
LOCATION:UT Health Tyler
WEBSITE:http://store.aheconline.com
URL:http://store.aheconline.com
CONTACT:800-239-1361
ORGANIZER;CN="Larry Carney":https://community.radrounds.com/profile/La
 rryCarney
ATTACH;FMTTYPE="image/jpeg":
ATTENDEE;ROLE=REQ-PARTICIPANT;PARTSTAT=ACCEPTED;RSVP=TRUE;CN="Larry Ca
 rney":https://community.radrounds.com/profile/LarryCarney
END:VEVENT
END:VCALENDAR
