BEGIN:VCALENDAR
PRODID:NingEventWidget-v1
VERSION:2.0
METHOD:PUBLISH
BEGIN:VEVENT
UID:1791588:Event:172816
DTSTAMP:20260419T113616Z
SUMMARY:Skills for the Savvy Tech (Live Event)
DESCRIPTION:Course Topics\n\nCE for Healthcare Professionals\nRadiogra
 phic Quality Old and New\nQuality Management Update\nFilm Critique and
  Pathology\n\n\nFor more information visit https://community.radrounds
 .com/events/skills-for-the-savvy-tech-live-event-2
DTSTART:20171111T130000Z
DTEND:20171111T211500Z
CATEGORIES:live, event
LOCATION:TBD
WEBSITE:https://store.aheconline.com/index.php?route=product/product&p
 ath=59&product_id=3129
URL:https://store.aheconline.com/index.php?route=product/product&path=
 59&product_id=3129
CONTACT:800-239-1361
ORGANIZER;CN="Larry Carney":https://community.radrounds.com/profile/La
 rryCarney
ATTACH;FMTTYPE="image/jpeg":
ATTENDEE;ROLE=REQ-PARTICIPANT;PARTSTAT=ACCEPTED;RSVP=TRUE;CN="Larry Ca
 rney":https://community.radrounds.com/profile/LarryCarney
END:VEVENT
END:VCALENDAR
