BEGIN:VCALENDAR
PRODID:NingEventWidget-v1
VERSION:2.0
METHOD:PUBLISH
BEGIN:VEVENT
UID:1791588:Event:115329
DTSTAMP:20260423T204955Z
SUMMARY:SIR 2012 Annual Scientific Meeting - Society of Interventional
  Radiology Annual Meeting
DESCRIPTION:Society of Interventional Radiology’s 2012 Annual Scient
 ific Meeting, the world’s largest and most comprehensive educational
  meeting for the IR community and associated professionals. SIR 2012 w
 ill be held March 24—29 in the City\nby the Bay: San Francisco. In l
 ine with the tradition of this meeting, we have once again assembled a
  distinguished faculty to cover the wide\nspectrum of therapeutic proc
 edures in interventional radiology.\nThe meeting will focus on gatheri
 ng, presenting and discussing the results of relevant and care-changin
 g investigations in practice areas important to the field, hence the t
 heme “IR Evidence.” It is our expectation that there will be inval
 uable opportunities for the attendees to discover the latest advances 
 in the field, share clinical experiences and exchange ideas with colle
 agues from around the world.\n\nFor more information visit https://com
 munity.radrounds.com/events/sir-2012-annual-scientific-meeting-society
 -of-interventional-radi
DTSTART:20120324T040000Z
DTEND:20120330T035900Z
CATEGORIES:sir, meeting
LOCATION:San Francisco
WEBSITE:http://sirmeeting.org
URL:http://sirmeeting.org
CONTACT:
ORGANIZER:SIR Annual Meeting
ATTACH;FMTTYPE="image/jpeg":
ATTENDEE;ROLE=REQ-PARTICIPANT;PARTSTAT=ACCEPTED;RSVP=TRUE;CN="Member S
 ervices":https://community.radrounds.com/profile/MemberServices
END:VEVENT
END:VCALENDAR
