BEGIN:VCALENDAR
PRODID:NingEventWidget-v1
VERSION:2.0
METHOD:PUBLISH
BEGIN:VEVENT
UID:1791588:Event:175417
DTSTAMP:20260423T204444Z
SUMMARY:SIIM-NYMIIS Regional Meeting
DESCRIPTION:SIIM and NYMIIS will host their first joint Regional Meeti
 ng highlighting Best Practices in Imaging Informatics on September 7
 , 2017. Learn about the latest, best practices in medical imaging info
 rmatics, including the Use of AI for Patient Care, Service-Line Integr
 ation Issues, Workflow Orchestration, Protocol Standardization, Govern
 ance and a peek into the future of virtual reality and augmented reali
 ty in imaging informatics.  \n\nFor more information visit https://co
 mmunity.radrounds.com/events/siim-nymiis-regional-meeting
DTSTART:20170907T040000Z
DTEND:20170908T035900Z
CATEGORIES:imaging, "informatics/enterprise"
LOCATION:New York Marriott Marquis
WEBSITE:http://siim.org/page/ny_regional
URL:http://siim.org/page/ny_regional
CONTACT:703-723-0432
ORGANIZER:Anna Zawacki
ATTACH;FMTTYPE="image/jpeg":http://storage.ning.com/topology/rest/1.0/
 file/get/1044772049?profile=original
ATTENDEE;ROLE=REQ-PARTICIPANT;PARTSTAT=ACCEPTED;RSVP=TRUE;CN="Cathy Wo
 lniewicz":https://community.radrounds.com/profile/CathyWolniewicz
END:VEVENT
END:VCALENDAR
