BEGIN:VCALENDAR
PRODID:NingEventWidget-v1
VERSION:2.0
METHOD:PUBLISH
BEGIN:VEVENT
UID:1791588:Event:175253
DTSTAMP:20260421T093816Z
SUMMARY:SIIM 2018 Annual Meeting
DESCRIPTION:The SIIM Annual Meeting brings together scientists, resear
 chers, physicians, healthcare IT decision drivers, PACS/RIS administra
 tors, and vendors from around the world to explore the dynamic field o
 f imaging informatics. At the heart of the Annual Meeting, the Scient
 ific Program, examines the latest theories, concepts and experiments d
 eveloped by those in the field of imaging informatics. The Science and
  Innovation Pavilion is the hub where science and innovation meet prov
 iding attendees exposure to the latest cutting edge research and techn
 ology currently transforming enterprise imaging informatics. \n \n\n
 For more information visit https://community.radrounds.com/events/siim
 -2018-annual-meeting
DTSTART:20180531T040000Z
DTEND:20180603T035900Z
CATEGORIES:annual, meeting, and, imaging, informatics, convention
LOCATION:Gaylord National Resort &amp; Convention Center
WEBSITE:http://www.SIIM2018.org
URL:http://www.SIIM2018.org
CONTACT:703-723-0432
ORGANIZER:Andrea Saris
ATTACH;FMTTYPE="image/jpeg":http://storage.ning.com/topology/rest/1.0/
 file/get/1044772118?profile=original
ATTENDEE;ROLE=REQ-PARTICIPANT;PARTSTAT=ACCEPTED;RSVP=TRUE;CN="Cathy Wo
 lniewicz":https://community.radrounds.com/profile/CathyWolniewicz
END:VEVENT
END:VCALENDAR
