BEGIN:VCALENDAR
PRODID:NingEventWidget-v1
VERSION:2.0
METHOD:PUBLISH
BEGIN:VEVENT
UID:1791588:Event:176550
DTSTAMP:20260423T060359Z
SUMMARY:SBMCH and AIRP MSK Categorical Course BALRAD 2017
DESCRIPTION:Course Description\nThe course is designed to illustrate b
 asic and advanced concepts\nand radiologic-pathologic correlation in M
 usculoskeletal\nImaging in order to enhance practitioner knowledge and
  skills.\nLack of understanding of the underlying pathology can lead\n
 to misinterpretation of radiologic images and the potential to\noverlo
 ok important complications such a neoplastic recurrence.\nThe need for
  radiologic pathologic correlation is considered\nso important by the 
 radiology community that the ACGME\nrequires radiologic correlation as
  part of the training of radiology\nresidents.\nCourse Objectives\nAt 
 the conclusion of this course, participants will be able to:\n• Iden
 tify imaging characteristics of lesions involving the\nmusculoskeletal
  system that allow for narrowing of the\ndifferential diagnosis\n• I
 llustrate how the underlying pathology of the lesion\ncontributes to i
 ts imaging characteristics\nCME CREDITS: The Tamilnadu DR. M. G. R. Me
 dical University credits have been applied for and are pending.\n\nFor
  more information visit https://community.radrounds.com/events/sbmch-a
 nd-airp-msk-categorical-course-balrad-2017
DTSTART:20170929T040000Z
DTEND:20171002T035900Z
CATEGORIES:cme, -, msk, radiologic-pathology, correlation, course
LOCATION:Auditorium T.R. Raman Hall, Balaji Medical College &amp; Hosp
 ital
WEBSITE:http://www.airp.org/international
URL:http://www.airp.org/international
CONTACT:00919962223860
ORGANIZER:Ms. Saran Sabapathy
ATTACH;FMTTYPE="image/jpeg":http://storage.ning.com/topology/rest/1.0/
 file/get/1044773268?profile=original
ATTENDEE;ROLE=REQ-PARTICIPANT;PARTSTAT=ACCEPTED;RSVP=TRUE;CN="Morgan W
 alters":https://community.radrounds.com/profile/MorganWalters
END:VEVENT
END:VCALENDAR
