BEGIN:VCALENDAR
PRODID:NingEventWidget-v1
VERSION:2.0
METHOD:PUBLISH
BEGIN:VEVENT
UID:1791588:Event:155832
DTSTAMP:20260421T061429Z
SUMMARY:Savvy Skills for the CT Technologist
DESCRIPTION:Register early and save! Please register early and reserve
  your place by providing payment to avoid an additional $25 fee requir
 ed for registrations given within two (2) weeks of the course.\nRooted
  from the technical and clinical applications of CT, this course will 
 illustrate how you can optimize your daily performance through a bette
 r understanding of the optimal use of technologist-controlled CT syste
 m parameters, radiation reduction, minimizing artifacts, and producing
  quality images. This course also includes topics of interest on patie
 nt care and contrast media administration as well as other related top
 ics for a well-rounded and fun CT course. Savvy Skills for the CT Tech
 nologist will benefit practicing technologists as well as those wantin
 g to learn more about CT.  Course Topics\n\nCT parameters-technologist
 -controlled\nOptimizing image quality\nArtifacts\nRadiation reduction\
 nContrast media\nPatient care\n\n\n\nFor more information visit https:
 //community.radrounds.com/events/savvy-skills-for-the-ct-technologist-
 3
DTSTART:20140610T220000Z
DTEND:20140610T230000Z
CATEGORIES:ce, seminar
LOCATION:Doubletree Hotel BWI Airport
WEBSITE:https://store.aheconline.com/index.php?route=product/product&p
 ath=59&product_id=1367
URL:https://store.aheconline.com/index.php?route=product/product&path=
 59&product_id=1367
CONTACT:800-239-1361
ORGANIZER;CN="Larry Carney":https://community.radrounds.com/profile/La
 rryCarney
ATTACH;FMTTYPE="image/jpeg":
ATTENDEE;ROLE=REQ-PARTICIPANT;PARTSTAT=ACCEPTED;RSVP=TRUE;CN="Larry Ca
 rney":https://community.radrounds.com/profile/LarryCarney
END:VEVENT
END:VCALENDAR
