BEGIN:VCALENDAR
PRODID:NingEventWidget-v1
VERSION:2.0
METHOD:PUBLISH
BEGIN:VEVENT
UID:1791588:Event:173233
DTSTAMP:20260421T080815Z
SUMMARY:SAR 2018 Annual Meeting and Educational Course
DESCRIPTION:The SAR 2018 Annual Scientific Meeting and Educational Cou
 rse will be held, March 4 - 9, 2018 at the Fairmont Scottsdale Princes
 s in Scottsdale, Arizona. This annual meeting is a presentation of the
  Society of Abdominal Radiology. The course encompasses the full range
  of activities that constitute contemporary abdominal radiology.\n\nFo
 r more information visit https://community.radrounds.com/events/sar-20
 18-annual-meeting-and-educational-course
DTSTART:20180304T050000Z
DTEND:20180310T045900Z
CATEGORIES:educational, course
LOCATION:Fairmont Scottsdale Princess
WEBSITE:http://www.abdominalradiology.org/?AnnualMeeting
URL:http://www.abdominalradiology.org/?AnnualMeeting
CONTACT:713-965-0566
ORGANIZER;CN="ARC Meetings Dept":https://community.radrounds.com/profi
 le/ARCMeetingsDept
ATTACH;FMTTYPE="image/jpeg":
ATTENDEE;ROLE=REQ-PARTICIPANT;PARTSTAT=ACCEPTED;RSVP=TRUE;CN="ARC Meet
 ings Dept":https://community.radrounds.com/profile/ARCMeetingsDept
END:VEVENT
END:VCALENDAR
