BEGIN:VCALENDAR
PRODID:NingEventWidget-v1
VERSION:2.0
METHOD:PUBLISH
BEGIN:VEVENT
UID:1791588:Event:115271
DTSTAMP:20260425T064356Z
SUMMARY:San Antonio Diagnostic Miniconference
DESCRIPTION:San Antonio Diagnostic Miniconference Saturday, January 21
 , 2012 - Saturday, January 21, 2012Holiday Inn Select Airport San Anto
 nio, Texas (TX), United StatesProvided by Advanced Health Education Ce
 nter  CME Provider: Advanced Health Education Center 8502 Tybor DriveH
 ouston, Texas (TX) 77074United States\nToll Free: (800) 239-1361Phone:
  (713) 772-0157Fax: (713) 772-0155\n\nConference Center:Holiday Inn Se
 lect Airport 77 NE Loop 410San Antonio, Texas (TX) 78216United States\
 nPhone: (210) 349-9900Fax: (210) 349-4660\n Description:Here is our Sa
 n Antonio diagnostic conference for your CE need in 2012. We are curre
 ntly planning out the agenda and inviting speakers to make up a variet
 y of topics just for you! Save the date and check back with us for top
 ics and speaker information. See you in San Antonio for our annual dia
 gnostic seminar!\nCourse Topics • TBD\nSelf Assessment Module (SAM):
  No\nInstructors:Lois Lehman, R.T. (R), (CT)\nSpecialty Audience:Radio
 logy\n\nFor more information visit https://community.radrounds.com/eve
 nts/san-antonio-diagnostic-miniconference
DTSTART:20120121T050000Z
DTEND:20120122T045900Z
CATEGORIES:radiology
LOCATION:Holiday Inn Select Airport
WEBSITE:http://www.holidayinn.com/hotels/us/en/san-antonio/satap/hotel
 detail
URL:http://www.holidayinn.com/hotels/us/en/san-antonio/satap/hoteldeta
 il
CONTACT:(210) 349-9900
ORGANIZER:Advanced Health Education Center
ATTACH;FMTTYPE="image/jpeg":
ATTENDEE;ROLE=REQ-PARTICIPANT;PARTSTAT=ACCEPTED;RSVP=TRUE;CN="radRound
 s Radiology Events":https://community.radrounds.com/profile/radRoundsR
 adiologyEvents
END:VEVENT
END:VCALENDAR
