BEGIN:VCALENDAR
PRODID:NingEventWidget-v1
VERSION:2.0
METHOD:PUBLISH
BEGIN:VEVENT
UID:1791588:Event:176553
DTSTAMP:20260422T132735Z
SUMMARY:RSSA-AIRP RadPath Correlation Course
DESCRIPTION:10th Annual Scientific Meeting of RSSA & 2nd Joint Scient
 ific Meeting of RSSA & AIRP\nAIRP speakers Drs. Kelly Koeller (Neuro),
  Brent Wagner (GU), and John Lichtenberger (Thoracic) lecturer on Rad
 Path Correlation.\nCME Accredited.\n\n\n\nFor more information visit h
 ttps://community.radrounds.com/events/rssa-airp-radpath-correlation-co
 urse-neuro-thoracic-gu
DTSTART:20171012T040000Z
DTEND:20171015T035900Z
CATEGORIES:radiologic-pathology, correlation, course
LOCATION:Burj Rafal Kempinski in Riyadh, Saudi Arabia
WEBSITE:http://ayyar.net/rssa/
URL:http://ayyar.net/rssa/
CONTACT:1-703-390-9881
ORGANIZER:Dr. Lamia Jamjoom
ATTACH;FMTTYPE="image/jpeg":http://storage.ning.com/topology/rest/1.0/
 file/get/1044773368?profile=original
ATTENDEE;ROLE=REQ-PARTICIPANT;PARTSTAT=ACCEPTED;RSVP=TRUE;CN="Morgan W
 alters":https://community.radrounds.com/profile/MorganWalters
END:VEVENT
END:VCALENDAR
