BEGIN:VCALENDAR
PRODID:NingEventWidget-v1
VERSION:2.0
METHOD:PUBLISH
BEGIN:VEVENT
UID:1791588:Event:105884
DTSTAMP:20260425T125603Z
SUMMARY:RSNA 2011
DESCRIPTION:There is much to learn here at RSNA 2011. Hundreds of cour
 se offerings and thousands of scien- tific presentations and education
  exhibits offer you unlimited opportunities. Hot Topics, Controver- si
 es/Game, and Special Interest Sessions explore controversial and late-
 breaking issues selected by RSNA experts. No matter where you practice
 , here is where you’ll find the answers to help you re- main a leade
 r in your field. With full participation in this meeting, you can earn
  up to 92.75 AMA PRA Category 1 Credits.\n\nFor more information visit
  https://community.radrounds.com/events/rsna2011
DTSTART:20111127T050000Z
DTEND:20111203T045900Z
CATEGORIES:rsna, 2011
LOCATION:Chicago McCormick Center
WEBSITE:http://rsna2011.rsna.org/index.cfm
URL:http://rsna2011.rsna.org/index.cfm
CONTACT:
ORGANIZER:RSNA 2011
ATTACH;FMTTYPE="image/jpeg":http://storage.ning.com/topology/rest/1.0/
 file/get/1044731831?profile=original
ATTENDEE;ROLE=REQ-PARTICIPANT;PARTSTAT=ACCEPTED;RSVP=TRUE;CN="radRound
 s Radiology Network":https://community.radrounds.com/profile/radRounds
 _Radiology_Network
END:VEVENT
END:VCALENDAR
