BEGIN:VCALENDAR
PRODID:NingEventWidget-v1
VERSION:2.0
METHOD:PUBLISH
BEGIN:VEVENT
UID:1791588:Event:172328
DTSTAMP:20260422T161411Z
SUMMARY:Rough Days in Radiology (Live Webinar)
DESCRIPTION:Course Topics:\n\nWorkplace Stress and Burnout\nPersonal C
 haracteristics Affecting Burnout Potential\nRecognizing Burnout\nManag
 ing Burnout\nRecognize Characteristics of Difficult People\nLearn to N
 avigate Challenging Personalities\nDemonstrate Strategies to Successfu
 lly Interact with These Individuals\n\n\nFor more information visit ht
 tps://community.radrounds.com/events/rough-days-in-radiology-live-webi
 nar
DTSTART:20170511T220000Z
DTEND:20170511T230000Z
CATEGORIES:live, event
LOCATION:Advanced Health Education Center
WEBSITE:https://store.aheconline.com/index.php?route=product/product&p
 ath=59_167&product_id=3035
URL:https://store.aheconline.com/index.php?route=product/product&path=
 59_167&product_id=3035
CONTACT:800-239-1361
ORGANIZER;CN="Larry Carney":https://community.radrounds.com/profile/La
 rryCarney
ATTACH;FMTTYPE="image/jpeg":
ATTENDEE;ROLE=REQ-PARTICIPANT;PARTSTAT=ACCEPTED;RSVP=TRUE;CN="Larry Ca
 rney":https://community.radrounds.com/profile/LarryCarney
END:VEVENT
END:VCALENDAR
