BEGIN:VCALENDAR
PRODID:NingEventWidget-v1
VERSION:2.0
METHOD:PUBLISH
BEGIN:VEVENT
UID:1791588:Event:182933
DTSTAMP:20260423T184938Z
SUMMARY:Rough Days in Radiology (Live Webinar)
DESCRIPTION:Course Topics:\n\nWorkplace Stress and Burnout\nPersonal C
 haracteristics Affecting Burnout Potential\nRecognizing Burnout\nManag
 ing Burnout\nRecognize Characteristics of Difficult People\nLearn to N
 avigate Challenging Personalities\nDemonstrate Strategies to Successfu
 lly Interact with These Individuals\n\n\nFor more information visit ht
 tps://community.radrounds.com/events/rough-days-in-radiology-live-webi
 nar-3
DTSTART:20180718T130000Z
DTEND:20180718T150000Z
CATEGORIES:live, webinar
LOCATION:Advanced Health Education Center
WEBSITE:https://store.aheconline.com/
URL:https://store.aheconline.com/
CONTACT:7137720157
ORGANIZER;CN="Larry Carney":https://community.radrounds.com/profile/La
 rryCarney
ATTACH;FMTTYPE="image/jpeg":
ATTENDEE;ROLE=REQ-PARTICIPANT;PARTSTAT=ACCEPTED;RSVP=TRUE;CN="Larry Ca
 rney":https://community.radrounds.com/profile/LarryCarney
END:VEVENT
END:VCALENDAR
