BEGIN:VCALENDAR
PRODID:NingEventWidget-v1
VERSION:2.0
METHOD:PUBLISH
BEGIN:VEVENT
UID:1791588:Event:168114
DTSTAMP:20260420T202443Z
SUMMARY:Rough Days in Radiology [6:30pm CST]
DESCRIPTION:Course Topics:\n\nWorkplace Stress and Burnout\nPersonal C
 haracteristics Affecting Burnout Potential\nRecognizing Burnout\nManag
 ing Burnout\nRecognize Characteristics of Difficult People\nLearn to N
 avigate Challenging Personalities\nDemonstrate Strategies to Successfu
 lly Interact with These Individuals\n\nStart Time Based on Time Zone:\
 n\n7:30PM Eastern\n6:30PM Central\n5:30PM Mountain\n4:30PM Pacific\n3:
 30PM Alaska\n2:30PM Hawaii\n\n\nFor more information visit https://com
 munity.radrounds.com/events/rough-days-in-radiology-6-30pm-cst
DTSTART:20160707T223000Z
DTEND:20160708T001500Z
CATEGORIES:webinar
LOCATION:Houston
WEBSITE:https://store.aheconline.com/index.php?route=product/product&p
 ath=59_167_191&product_id=2498
URL:https://store.aheconline.com/index.php?route=product/product&path=
 59_167_191&product_id=2498
CONTACT:18002391361
ORGANIZER;CN="Larry Carney":https://community.radrounds.com/profile/La
 rryCarney
ATTACH;FMTTYPE="image/jpeg":
ATTENDEE;ROLE=REQ-PARTICIPANT;PARTSTAT=ACCEPTED;RSVP=TRUE;CN="Larry Ca
 rney":https://community.radrounds.com/profile/LarryCarney
END:VEVENT
END:VCALENDAR
