BEGIN:VCALENDAR
PRODID:NingEventWidget-v1
VERSION:2.0
METHOD:PUBLISH
BEGIN:VEVENT
UID:1791588:Event:122245
DTSTAMP:20260421T043814Z
SUMMARY:Renal Duplex - Power Course
DESCRIPTION:Target Audience: All registered sonographers, student sono
 graphers, and radiologic technologists who desire entry level training
  with vascular ultrasound.\n \nOverall goal of activity: Designed to 
 enhance the knowledge and skills in the areas of vascular technology b
 y introducing participants to laboratory acceptable scanning protocols
  and extensive hands-on training.\n \nDescription: This one day, non-
 physics course introduces the participants to the renal duplex examina
 tion. Topics will include: abdominal and visceral anatomy, physiology,
  and mechanisms of disease. Emphasis will be placed on renal artery du
 plex imaging protocols with extensive hands on scanning of the renal v
 asculature.\n \nObjectives: Upon completion of this course, the parti
 cipant will be able to:\n\nDescribe the normal anatomy of the kidney a
 nd renal arteries\nExplain the common indications for renal artery dup
 lex\nDescribe patient preparation, transducer selection, patient posit
 ion, and images that should be obtained during the renal artery duplex
  examination\nDescribe the use of Doppler when evaluating the renal ar
 teries\nExplain the effect of kidney transplants in relation to renal 
 artery duplex\nDemonstrate proper scanning techniques for renal artery
  assessment\n\nApproved for 6.5 SDMS CMEs\nSDMS CMEs accepted as ARRT 
 Category A credits\n\nFor more information visit https://community.rad
 rounds.com/events/renal-duplex-power-course
DTSTART:20120721T120000Z
DTEND:20120721T210000Z
CATEGORIES:course
LOCATION:Crowne Plaza Hampton Marina Hotel - Dockside Ballroom
WEBSITE:http://www.uiseducation.net
URL:http://www.uiseducation.net
CONTACT:1-888-246-3091
ORGANIZER;CN="Alphonzo Smalls":https://community.radrounds.com/profile
 /AlphonzoSmalls
ATTACH;FMTTYPE="image/jpeg":http://storage.ning.com/topology/rest/1.0/
 file/get/1044743118?profile=original
ATTENDEE;ROLE=REQ-PARTICIPANT;PARTSTAT=ACCEPTED;RSVP=TRUE;CN="Alphonzo
  Smalls":https://community.radrounds.com/profile/AlphonzoSmalls
END:VEVENT
END:VCALENDAR
