BEGIN:VCALENDAR
PRODID:NingEventWidget-v1
VERSION:2.0
METHOD:PUBLISH
BEGIN:VEVENT
UID:1791588:Event:153426
DTSTAMP:20260421T072837Z
SUMMARY:Radiology Update 2014
DESCRIPTION:This course provides a comprehensive and practical review 
 of contemporary diagnostic imaging. Optimal imaging and image interpre
 tation of usually encountered conditions are reviewed. Pitfalls in ima
 ge interpretation, including MRI artifacts, are explained and methods 
 to avoid them are presented. In addition to lectures, multiple case pr
 esentation sessions are provided that show examples of “must know”
  and “advanced” cases. Self-assessment modules (SAMs) will be prov
 ided and tailored to the course material.\nImportant updates in the fo
 llowing areas of imaging: \n\nAbdominal\nBreast\nCardiac\nEmergency\n
 Interventional\nMusculoskeletal\nNuclear medicine\nNeuroradiology\nPed
 iatric\nReproductive/Endocrine\nThoracic\nUltrasound\n\nAccreditation\
 nThe Harvard Medical School is accredited by the Accreditation Council
  for Continuing Medical Education to provide continuing medical educat
 ion for physicians.\nThe Harvard Medical School designates this live a
 ctivity for a maximum of 44 AMA PRA Category 1 Credits™. Physicians
  should claim only credit commensurate with the extent of their partic
 ipation in the activity.\nThe Royal College of Physicians and Surgeons
  of Canada recognizes conferences and workshops held outside of Canada
  that are developed by a university, academy, hospital, specialty soci
 ety or college as accredited group learning activities.\n\nwww.HMSCME.
 com/Radiology2014\n\n\nFor more information visit https://community.ra
 drounds.com/events/radiology-update-2014
DTSTART:20140407T120000Z
DTEND:20140411T200000Z
CATEGORIES:radiology, conference
LOCATION:Boston Marriott Long Wharf Hotel
WEBSITE:
URL:
CONTACT:617-525-7330
ORGANIZER;CN="Danielle Klette":https://community.radrounds.com/profile
 /DanielleKlette
ATTACH;FMTTYPE="image/jpeg":
ATTENDEE;ROLE=REQ-PARTICIPANT;PARTSTAT=ACCEPTED;RSVP=TRUE;CN="Danielle
  Klette":https://community.radrounds.com/profile/DanielleKlette
END:VEVENT
END:VCALENDAR
