BEGIN:VCALENDAR
PRODID:NingEventWidget-v1
VERSION:2.0
METHOD:PUBLISH
BEGIN:VEVENT
UID:1791588:Event:172496
DTSTAMP:20260419T082246Z
SUMMARY:Radiology Transitions to Reality (Live Event)
DESCRIPTION:When out of the ordinary images occur, your skills as a ra
 diographer are put to the test. Join us in viewing rare pathology, tra
 uma and foreign objects that often cause radiographers and radiologist
 s to take a second look. Is it an artifact, or was the exam done incor
 rectly? How can you better demonstrate this unique finding? This is a 
 course that will surely peak your interest and give you insight into t
 hose rare images you never know when you’ll see.\n\nFor more informa
 tion visit https://community.radrounds.com/events/radiology-transition
 s-to-reality-live-event-3
DTSTART:20171111T130000Z
DTEND:20171111T213000Z
CATEGORIES:live, event
LOCATION:TBD
WEBSITE:https://store.aheconline.com/index.php?route=product/product&p
 ath=59&product_id=3133
URL:https://store.aheconline.com/index.php?route=product/product&path=
 59&product_id=3133
CONTACT:800-239-1361
ORGANIZER;CN="Larry Carney":https://community.radrounds.com/profile/La
 rryCarney
ATTACH;FMTTYPE="image/jpeg":
ATTENDEE;ROLE=REQ-PARTICIPANT;PARTSTAT=ACCEPTED;RSVP=TRUE;CN="Larry Ca
 rney":https://community.radrounds.com/profile/LarryCarney
END:VEVENT
END:VCALENDAR
