BEGIN:VCALENDAR
PRODID:NingEventWidget-v1
VERSION:2.0
METHOD:PUBLISH
BEGIN:VEVENT
UID:1791588:Event:167911
DTSTAMP:20260420T184111Z
SUMMARY:Radiology Transition to Reality (AKA-RTR)
DESCRIPTION:Course Topics\n\nImaging – Yesterday & Tomorrow\nDemonst
 rating foreign objects\nChoosing the best techniques\nPortable Radiogr
 aphy\nTrauma positioning and technique\n\n\nFor more information visit
  https://community.radrounds.com/events/radiology-transition-to-realit
 y-aka-rtr
DTSTART:20160709T130000Z
DTEND:20160709T203000Z
CATEGORIES:simulcast
LOCATION:Houston
WEBSITE:https://store.aheconline.com/index.php?route=product/product&p
 ath=59_167_192&product_id=2294
URL:https://store.aheconline.com/index.php?route=product/product&path=
 59_167_192&product_id=2294
CONTACT:18002391361
ORGANIZER;CN="Larry Carney":https://community.radrounds.com/profile/La
 rryCarney
ATTACH;FMTTYPE="image/jpeg":
ATTENDEE;ROLE=REQ-PARTICIPANT;PARTSTAT=ACCEPTED;RSVP=TRUE;CN="Larry Ca
 rney":https://community.radrounds.com/profile/LarryCarney
END:VEVENT
END:VCALENDAR
