BEGIN:VCALENDAR
PRODID:NingEventWidget-v1
VERSION:2.0
METHOD:PUBLISH
BEGIN:VEVENT
UID:1791588:Event:190925
DTSTAMP:20260421T104923Z
SUMMARY:#Radiology #PatientPosts #CustomerCare (Live Webinar)
DESCRIPTION:Course Topics\n\nTypes of Social Media\nSocial media in th
 e Workplace\nEmployee Postings\nPatient Postings\nHow Posts Affect You
 r Reputation\nEnsure Patient Satisfaction\n\nCourse Objectives:\nAt th
 e conclusion of the course the participant should be able to:\n\nDiscu
 ss social media and how it affects the radiology department\nList the 
 favorable reasons to use social media in the workplace\nList the reaso
 ns patients may make negative posts or rankings in social media\nDiscu
 ss how to proactively ensure all positive feedback from patients\nDesc
 ribe how to sue the 4 Cs of Patient Satisfaction in Radiology\n\n\nFor
  more information visit https://community.radrounds.com/events/radiolo
 gy-patientposts-customercare-live-webinar-1
DTSTART:20190614T140000Z
DTEND:20190614T150000Z
CATEGORIES:live, webinar
LOCATION:Advanced Health Education Center
WEBSITE:https://store.aheconline.com/
URL:https://store.aheconline.com/
CONTACT:1(800) 239-1361
ORGANIZER:AHEC
ATTACH;FMTTYPE="image/jpeg":
ATTENDEE;ROLE=REQ-PARTICIPANT;PARTSTAT=ACCEPTED;RSVP=TRUE;CN="Larry Ca
 rney":https://community.radrounds.com/profile/LarryCarney
END:VEVENT
END:VCALENDAR
