BEGIN:VCALENDAR
PRODID:NingEventWidget-v1
VERSION:2.0
METHOD:PUBLISH
BEGIN:VEVENT
UID:1791588:Event:115847
DTSTAMP:20260424T073344Z
SUMMARY:Radiology Challenges & Changes
DESCRIPTION:Radiology Challenges & Changes Saturday, February 25, 2012
  - Saturday, February 25, 2012Holiday Inn Select Airport San Antonio, 
 Texas (TX), United StatesProvided by Advanced Health Education Center 
  CME Provider: Advanced Health Education Center 8502 Tybor DriveHousto
 n, Texas (TX) 77074United States\nToll Free: (800) 239-1361Phone: (713
 ) 772-0157Fax: (713) 772-0155\n\nConference Center:Holiday Inn Select 
 Airport 77 NE Loop 410San Antonio, Texas (TX) 78216United States\nPhon
 e: (210) 349-9900Fax: (210) 349-4660\nDescription:There are a wide ran
 ge of challenges that technologists face in today’s chaotic workplac
 e. The demand on technologists to attain higher productivity while exa
 mining sicker patients and at the same time produce high quality diagn
 ostic images is taxing at the very least. This course demonstrates tip
 s, tricks, and innovative new ways to deal with these challenges and m
 ore! Find out how to excel in the work place and cope with everything 
 from scope of practice and legal pitfalls to unique positioning techni
 ques for that special patient population. This seasoned technologist w
 ill provide you with the information you need to know to hone your ski
 lls as well as the answers to “how to” and “why” required to s
 ucceed in the competitive radiography market.\nCourse Topics: • Why 
 technologists are involved in lawsuits • Optimizing digital imaging 
 techniques • What’s up with coding? • Special patient population
 s & age specific techniques • Unusual positions to display unique pa
 thology\nSelf Assessment Module (SAM): No\nInstructors:Sharon Norman, 
 RT(R)\nSpecialty Audience:Radiology\n\nFor more information visit http
 s://community.radrounds.com/events/radiology-challenges-changes
DTSTART:20120225T050000Z
DTEND:20120226T045900Z
CATEGORIES:radiology
LOCATION:Holiday Inn Select Airport
WEBSITE:http://www.holidayinn.com/hotels/us/en/san-antonio/satap/hotel
 detail
URL:http://www.holidayinn.com/hotels/us/en/san-antonio/satap/hoteldeta
 il
CONTACT:(210) 349-9900
ORGANIZER:Advanced Health Education Center
ATTACH;FMTTYPE="image/jpeg":
ATTENDEE;ROLE=REQ-PARTICIPANT;PARTSTAT=ACCEPTED;RSVP=TRUE;CN="radRound
 s Radiology Events":https://community.radrounds.com/profile/radRoundsR
 adiologyEvents
END:VEVENT
END:VCALENDAR
