BEGIN:VCALENDAR
PRODID:NingEventWidget-v1
VERSION:2.0
METHOD:PUBLISH
BEGIN:VEVENT
UID:1791588:Event:123448
DTSTAMP:20260421T121116Z
SUMMARY:Radiology Challenges & Changes
DESCRIPTION:There are a wide range of challenges that technologists fa
 ce in today’s chaotic workplace. The demand on technologists to atta
 in higher productivity while examining sicker patients and at the same
  time produce high quality diagnostic images is taxing at the very lea
 st. This course demonstrates tips, tricks, and innovative new ways to 
 deal with these challenges and more! Find out how to excel in the work
  place and cope with everything from scope of practice and legal pitfa
 lls to unique positioning techniques for that special patient populati
 on. This seasoned technologist will provide you with the information y
 ou need to know to hone your skills as well as the answers to “how t
 o” and “why” required to succeed in the competitive radiography 
 market.\n\nFor more information visit https://community.radrounds.com/
 events/radiology-challenges-changes-5
DTSTART:20120908T120000Z
DTEND:20120908T201500Z
CATEGORIES:ce, credit
LOCATION:Courtyard San Diego Old Town
WEBSITE:http://store.aheconline.com/DisplayDetail.aspx?pid=7348
URL:http://store.aheconline.com/DisplayDetail.aspx?pid=7348
CONTACT:800-239-1361
ORGANIZER:Advanced Health Education Center
ATTACH;FMTTYPE="image/jpeg":
ATTENDEE;ROLE=REQ-PARTICIPANT;PARTSTAT=ACCEPTED;RSVP=TRUE;CN="Larry Ca
 rney":https://community.radrounds.com/profile/LarryCarney
END:VEVENT
END:VCALENDAR
