BEGIN:VCALENDAR
PRODID:NingEventWidget-v1
VERSION:2.0
METHOD:PUBLISH
BEGIN:VEVENT
UID:1791588:Event:116288
DTSTAMP:20260422T222626Z
SUMMARY:Radiology Challenges & Changes
DESCRIPTION:Radiology Challenges & Changes Saturday, May 19, 2012 - Sa
 turday, May 19, 2012Hilton Midland Plaza Midland, Texas (TX), United S
 tatesProvided by Advanced Health Education Center  CME Provider: Advan
 ced Health Education Center 8502 Tybor DriveHouston, Texas (TX) 77074U
 nited States\nToll Free: (800) 239-1361Phone: (713) 772-0157Fax: (713)
  772-0155\n\nConference Center:Hilton Midland Plaza 117 West Wall Aven
 ueMidland, Texas (TX) 79701United States\nPhone: (432) 683-6131\n Desc
 ription:There are a wide range of challenges that technologists face i
 n today’s chaotic workplace. The demand on technologists to attain h
 igher productivity while examining sicker patients and at the same tim
 e produce high quality diagnostic images is taxing at the very least. 
 This course demonstrates tips, tricks, and innovative new ways to deal
  with these challenges and more! Find out how to excel in the work pla
 ce and cope with everything from scope of practice and legal pitfalls 
 to unique positioning techniques for that special patient population. 
 This seasoned technologist will provide you with the information you n
 eed to know to hone your skills as well as the answers to “how to”
  and “why” required to succeed in the competitive radiography mark
 et.\nCourse Topics: • Why technologists are involved in lawsuits •
  Optimizing digital imaging techniques • What’s up with coding? 
  Special patient populations & age specific techniques • Unusual po
 sitions to display unique pathology\nSelf Assessment Module (SAM): No\
 nInstructors:Sharon Norman, RT(R)\nSpecialty Audience:Radiology\n\nFor
  more information visit https://community.radrounds.com/events/radiolo
 gy-challenges-changes-3
DTSTART:20120519T040000Z
DTEND:20120520T035900Z
CATEGORIES:radiology
LOCATION:Hilton Midland Plaza
WEBSITE:http://www1.hilton.com/en_US/hi/hotel/MAFHIHF-Hilton-Midland-P
 laza-Texas/index.do
URL:http://www1.hilton.com/en_US/hi/hotel/MAFHIHF-Hilton-Midland-Plaza
 -Texas/index.do
CONTACT:(432) 683-6131
ORGANIZER:Advanced Health Education Center
ATTACH;FMTTYPE="image/jpeg":
ATTENDEE;ROLE=REQ-PARTICIPANT;PARTSTAT=ACCEPTED;RSVP=TRUE;CN="radRound
 s Radiology Events":https://community.radrounds.com/profile/radRoundsR
 adiologyEvents
END:VEVENT
END:VCALENDAR
