BEGIN:VCALENDAR
PRODID:NingEventWidget-v1
VERSION:2.0
METHOD:PUBLISH
BEGIN:VEVENT
UID:1791588:Event:116091
DTSTAMP:20260423T100256Z
SUMMARY:Radiology Challenges & Changes
DESCRIPTION:Radiology Challenges & Changes Saturday, April 21, 2012 - 
 Saturday, April 21, 2012Holiday Inn Wichita Falls, Texas (TX), United 
 StatesProvided by Advanced Health Education Center  CME Provider: Adva
 nced Health Education Center 8502 Tybor DriveHouston, Texas (TX) 77074
 United States\nToll Free: (800) 239-1361Phone: (713) 772-0157Fax: (713
 ) 772-0155\n\nConference Center:Holiday Inn 100 Central FreewayWichita
  Falls, Texas (TX) 76306United States\nPhone: 940-761-6000\n Descripti
 on:There are a wide range of challenges that technologists face in tod
 ay’s chaotic workplace. The demand on technologists to attain higher
  productivity while examining sicker patients and at the same time pro
 duce high quality diagnostic images is taxing at the very least. This 
 course demonstrates tips, tricks, and innovative new ways to deal with
  these challenges and more! Find out how to excel in the work place an
 d cope with everything from scope of practice and legal pitfalls to un
 ique positioning techniques for that special patient population. This 
 seasoned technologist will provide you with the information you need t
 o know to hone your skills as well as the answers to “how to” and 
 “why” required to succeed in the competitive radiography market.\n
 Course Topics: • Why technologists are involved in lawsuits • Opti
 mizing digital imaging techniques • What’s up with coding? • Spe
 cial patient populations & age specific techniques • Unusual positio
 ns to display unique pathology\nSelf Assessment Module (SAM): No\nInst
 ructors:Sharon Norman, RT(R)\nSpecialty Audience:Radiology\n\nFor more
  information visit https://community.radrounds.com/events/radiology-ch
 allenges-changes-2
DTSTART:20120421T040000Z
DTEND:20120422T035900Z
CATEGORIES:radiology
LOCATION:Holiday Inn
WEBSITE:http://www.holidayinn.com/hotels/us/en/wichita-falls/spswf/hot
 eldetail
URL:http://www.holidayinn.com/hotels/us/en/wichita-falls/spswf/hotelde
 tail
CONTACT:940-761-6000
ORGANIZER:Advanced Health Education Center
ATTACH;FMTTYPE="image/jpeg":
ATTENDEE;ROLE=REQ-PARTICIPANT;PARTSTAT=ACCEPTED;RSVP=TRUE;CN="radRound
 s Radiology Events":https://community.radrounds.com/profile/radRoundsR
 adiologyEvents
END:VEVENT
END:VCALENDAR
