BEGIN:VCALENDAR
PRODID:NingEventWidget-v1
VERSION:2.0
METHOD:PUBLISH
BEGIN:VEVENT
UID:1791588:Event:115991
DTSTAMP:20260424T020107Z
SUMMARY:Radiology Challenges & Changes
DESCRIPTION:Radiology Challenges & Changes Saturday, March 10, 2012 - 
 Saturday, March 10, 2012Citizens Medical Center Victoria, Texas (TX), 
 United StatesProvided by Advanced Health Education Center  CME Provide
 r: Advanced Health Education Center 8502 Tybor DriveHouston, Texas (TX
 ) 77074United States\nToll Free: (800) 239-1361Phone: (713) 772-0157Fa
 x: (713) 772-0155\n\nConference Center:Citizens Medical Center 2701 Ho
 spital DrCentral ClassroomVictoria, Texas (TX) 79901United States\nPho
 ne: 361-573-9181\nDescription:There are a wide range of challenges tha
 t technologists face in today’s chaotic workplace. The demand on tec
 hnologists to attain higher productivity while examining sicker patien
 ts and at the same time produce high quality diagnostic images is taxi
 ng at the very least. This course demonstrates tips, tricks, and innov
 ative new ways to deal with these challenges and more! Find out how to
  excel in the work place and cope with everything from scope of practi
 ce and legal pitfalls to unique positioning techniques for that specia
 l patient population. This seasoned technologist will provide you with
  the information you need to know to hone your skills as well as the a
 nswers to “how to” and “why” required to succeed in the compet
 itive radiography market.\nCourse Topics: • Why technologists are in
 volved in lawsuits • Optimizing digital imaging techniques • What
 s up with coding? • Special patient populations & age specific tec
 hniques • Unusual positions to display unique pathology\nSelf Assess
 ment Module (SAM): No\nInstructors:Sharon Norman, RT(R)\nSpecialty Aud
 ience:Radiology\n\nFor more information visit https://community.radrou
 nds.com/events/radiology-challenges-changes-1
DTSTART:20120310T050000Z
DTEND:20120311T045900Z
CATEGORIES:radiology
LOCATION:Citizens Medical Center
WEBSITE:http://www.citizensmedicalcenter.org/wp-content/themes/citizen
 s/IE/index.html
URL:http://www.citizensmedicalcenter.org/wp-content/themes/citizens/IE
 /index.html
CONTACT:361-573-9181
ORGANIZER:Advanced Health Education Center
ATTACH;FMTTYPE="image/jpeg":
ATTENDEE;ROLE=REQ-PARTICIPANT;PARTSTAT=ACCEPTED;RSVP=TRUE;CN="radRound
 s Radiology Events":https://community.radrounds.com/profile/radRoundsR
 adiologyEvents
END:VEVENT
END:VCALENDAR
