BEGIN:VCALENDAR
PRODID:NingEventWidget-v1
VERSION:2.0
METHOD:PUBLISH
BEGIN:VEVENT
UID:1791588:Event:115738
DTSTAMP:20260424T213438Z
SUMMARY:Radiology Challenges and Changes
DESCRIPTION:Radiology Challenges and Changes Saturday, February 11, 20
 12 - Saturday, February 11, 2012Advanced Health Education Center Houst
 on, Texas (TX), United StatesProvided by Advanced Health Education Cen
 ter  CME Provider: Advanced Health Education Center 8502 Tybor DriveHo
 uston, Texas (TX) 77074United States\nToll Free: (800) 239-1361Phone: 
 (713) 772-0157Fax: (713) 772-0155\n\nConference Center:Advanced Health
  Education Center 8502 Tybor DriveHouston, Texas (TX) 77074United Stat
 es\nPhone: (800) 239-1361\nDescription:There are a wide range of chall
 enges that technologists face in today’s chaotic workplace. The dema
 nd on technologists to attain higher productivity while examining sick
 er patients and at the same time produce high quality diagnostic image
 s is taxing at the very least. This course demonstrates tips, tricks, 
 and innovative new ways to deal with these challenges and more! Find o
 ut how to excel in the work place and cope with everything from scope 
 of practice and legal pitfalls to unique positioning techniques for th
 at special patient population. This seasoned technologist will provide
  you with the information you need to know to hone your skills as well
  as the answers to “how to” and “why” required to succeed in t
 he competitive radiography market.\nCourse Topics: • Why technologis
 ts are involved in lawsuits • Optimizing digital imaging techniques 
 • What’s up with coding? • Special patient populations & age spe
 cific techniques • Unusual positions to display unique pathology\nSe
 lf Assessment Module (SAM): No\nInstructors:Sharon Norman, RT(R)\nSpec
 ialty Audience:Radiology\n\nFor more information visit https://communi
 ty.radrounds.com/events/radiology-challenges-and-changes
DTSTART:20120211T050000Z
DTEND:20120212T045900Z
CATEGORIES:radiology
LOCATION:Advanced Health Education Center
WEBSITE:http://aheconline.com/
URL:http://aheconline.com/
CONTACT:(800) 239-1361
ORGANIZER:Advanced Health Education Center
ATTACH;FMTTYPE="image/jpeg":
ATTENDEE;ROLE=REQ-PARTICIPANT;PARTSTAT=ACCEPTED;RSVP=TRUE;CN="radRound
 s Radiology Events":https://community.radrounds.com/profile/radRoundsR
 adiologyEvents
END:VEVENT
END:VCALENDAR
